BEGIN:VCALENDAR
VERSION:2.0
PRODID:icalendar-ruby
CALSCALE:GREGORIAN
METHOD:PUBLISH
BEGIN:VEVENT
DTSTAMP:20260421T234259Z
UID:39-340781@plcmenomonie.com
DTSTART:20261101T150000Z
DTEND:20261101T160000Z
CLASS:PUBLIC
CREATED:20260421T164332
DESCRIPTION:Worship 9am
LAST-MODIFIED:20260421T164332
LOCATION:
SUMMARY:Worship service
URL;VALUE=URI:https://plcmenomonie.com/events/worship-service--39/2026-11-0
 1
END:VEVENT
END:VCALENDAR
