BEGIN:VCALENDAR
VERSION:2.0
PRODID:icalendar-ruby
CALSCALE:GREGORIAN
METHOD:PUBLISH
BEGIN:VEVENT
DTSTAMP:20260421T215922Z
UID:39-340780@plcmenomonie.com
DTSTART:20261025T140000Z
DTEND:20261025T150000Z
CLASS:PUBLIC
CREATED:20260421T164332
DESCRIPTION:Worship 9am
LAST-MODIFIED:20260421T164332
LOCATION:
SUMMARY:Worship service
URL;VALUE=URI:https://plcmenomonie.com/events/worship-service--39/2026-10-2
 5
END:VEVENT
END:VCALENDAR
