BEGIN:VCALENDAR
VERSION:2.0
PRODID:icalendar-ruby
CALSCALE:GREGORIAN
METHOD:PUBLISH
BEGIN:VEVENT
DTSTAMP:20260421T202402Z
UID:39-340636@plcmenomonie.com
DTSTART:20261018T140000Z
DTEND:20261018T150000Z
CLASS:PUBLIC
CREATED:20260421T140625
DESCRIPTION:Worship 9am
LAST-MODIFIED:20260421T140625
LOCATION:
SUMMARY:Worship service
URL;VALUE=URI:https://plcmenomonie.com/events/worship-service--39/2026-10-1
 8
END:VEVENT
END:VCALENDAR
