BEGIN:VCALENDAR
VERSION:2.0
PRODID:icalendar-ruby
CALSCALE:GREGORIAN
METHOD:PUBLISH
BEGIN:VEVENT
DTSTAMP:20260421T185229Z
UID:39-340492@plcmenomonie.com
DTSTART:20261011T140000Z
DTEND:20261011T150000Z
CLASS:PUBLIC
CREATED:20260421T112842
DESCRIPTION:Worship 9am
LAST-MODIFIED:20260421T112842
LOCATION:
SUMMARY:Worship service
URL;VALUE=URI:https://plcmenomonie.com/events/worship-service--39/2026-10-1
 1
END:VEVENT
END:VCALENDAR
